BEGIN:VCALENDAR
VERSION:2.0
PRODID:http://bistummainz.de
BEGIN:VEVENT
UID:01aea38a-f39e-11f0-bae7-0242ac11002b-1777221000000-de
DTSTAMP:20260117T121400Z
DTSTART:20260426T163000Z
DTEND:20260426T173000Z
SUMMARY;LANGUAGE=de:Eucharistiefeier
END:VEVENT
END:VCALENDAR
