BEGIN:VCALENDAR
VERSION:2.0
PRODID:http://bistummainz.de
BEGIN:VEVENT
UID:02efae14-398d-11f1-b8c9-0242ac11002b-1776862800000-de
DTSTAMP:20260416T120842Z
DTSTART:20260422T130000Z
SUMMARY;LANGUAGE=de:Hl. Messe für Senioren
END:VEVENT
END:VCALENDAR
