BEGIN:VCALENDAR
VERSION:2.0
PRODID:http://bistummainz.de
BEGIN:VEVENT
UID:0394a1b6-f39e-11f0-bae7-0242ac11002b-1777219200000-de
DTSTAMP:20260117T121403Z
DTSTART:20260426T160000Z
DTEND:20260426T163000Z
SUMMARY;LANGUAGE=de:Rosenkranz
END:VEVENT
END:VCALENDAR
