BEGIN:VCALENDAR
VERSION:2.0
PRODID:http://bistummainz.de
BEGIN:VEVENT
UID:03c96493-00fa-11f1-bae7-0242ac11002b-1778677200000-de
DTSTAMP:20260203T121523Z
DTSTART:20260513T130000Z
DTEND:20260513T140000Z
SUMMARY;LANGUAGE=de:Fatima-Marienandacht
END:VEVENT
END:VCALENDAR
