BEGIN:VCALENDAR
VERSION:2.0
PRODID:http://bistummainz.de
BEGIN:VEVENT
UID:05b68ea8-00fa-11f1-bae7-0242ac11002b-1778688000000-de
DTSTAMP:20260203T121526Z
DTSTART:20260513T160000Z
DTEND:20260513T170000Z
SUMMARY;LANGUAGE=de:Maiandacht
END:VEVENT
END:VCALENDAR
