BEGIN:VCALENDAR
VERSION:2.0
PRODID:http://bistummainz.de
BEGIN:VEVENT
UID:08af40db-238d-11f1-a93c-0242ac11002b-1777130100000-de
DTSTAMP:20260319T121326Z
DTSTART:20260425T151500Z
DTEND:20260425T160000Z
SUMMARY;LANGUAGE=de:Beichtgelegenheit
END:VEVENT
END:VCALENDAR
