BEGIN:VCALENDAR
VERSION:2.0
PRODID:http://bistummainz.de
BEGIN:VEVENT
UID:0988b222-f854-11f0-bae7-0242ac11002b-1777710600000-de
DTSTAMP:20260123T120706Z
DTSTART:20260502T083000Z
DTEND:20260502T093000Z
SUMMARY;LANGUAGE=de:Erstkommunion St. Peter
END:VEVENT
END:VCALENDAR
