BEGIN:VCALENDAR
VERSION:2.0
PRODID:http://bistummainz.de
BEGIN:VEVENT
UID:09c1c38b-f854-11f0-bae7-0242ac11002b-1777737600000-de
DTSTAMP:20260123T120707Z
DTSTART:20260502T160000Z
DTEND:20260502T170000Z
SUMMARY;LANGUAGE=de:Eucharistiefeier
END:VEVENT
END:VCALENDAR
