BEGIN:VCALENDAR
VERSION:2.0
PRODID:http://bistummainz.de
BEGIN:VEVENT
UID:09e8b639-eee6-11f0-bae7-0242ac11002b-1776697200000-de
DTSTAMP:20260111T120702Z
DTSTART:20260420T150000Z
DTEND:20260420T160000Z
SUMMARY;LANGUAGE=de:Dankgottesdienst der Erstkommunionkinder
END:VEVENT
END:VCALENDAR
