BEGIN:VCALENDAR
VERSION:2.0
PRODID:http://bistummainz.de
BEGIN:VEVENT
UID:0d56b6c3-f7c5-11f0-bae7-0242ac11002b-1777105800000-de
DTSTAMP:20260122T190335Z
DTSTART:20260425T083000Z
DTEND:20260425T090000Z
SUMMARY;LANGUAGE=de:Feier der Erstkommunion
END:VEVENT
END:VCALENDAR
