BEGIN:VCALENDAR
VERSION:2.0
PRODID:http://bistummainz.de
BEGIN:VEVENT
UID:0d84986f-f2d3-11f0-bae7-0242ac11002b-1777129200000-de
DTSTAMP:20260116T120112Z
DTSTART:20260425T150000Z
DTEND:20260425T160000Z
SUMMARY;LANGUAGE=de:Vorabendmesse
END:VEVENT
END:VCALENDAR
