BEGIN:VCALENDAR
VERSION:2.0
PRODID:http://bistummainz.de
BEGIN:VEVENT
UID:0db28642-f2d3-11f0-bae7-0242ac11002b-1777100400000-de
DTSTAMP:20260116T120113Z
DTSTART:20260425T070000Z
DTEND:20260425T110000Z
SUMMARY;LANGUAGE=de:Göttliche Liturgie (ukraininisch-orthodoxer Kirche)
END:VEVENT
END:VCALENDAR
