BEGIN:VCALENDAR
VERSION:2.0
PRODID:http://bistummainz.de
BEGIN:VEVENT
UID:0e26f2f7-f2d3-11f0-bae7-0242ac11002b-1777134600000-de
DTSTAMP:20260116T120113Z
DTSTART:20260425T163000Z
DTEND:20260425T173000Z
SUMMARY;LANGUAGE=de:Vorabendmesse
END:VEVENT
END:VCALENDAR
