BEGIN:VCALENDAR
VERSION:2.0
PRODID:http://bistummainz.de
BEGIN:VEVENT
UID:0e3d6ba0-faeb-11f0-bae7-0242ac11002b-1777737600000-de
DTSTAMP:20260126T191311Z
DTSTART:20260502T160000Z
DTEND:20260502T170000Z
SUMMARY;LANGUAGE=de:Wort-Gottes-Feier mit Kommunion
END:VEVENT
END:VCALENDAR
