BEGIN:VCALENDAR
VERSION:2.0
PRODID:http://bistummainz.de
BEGIN:VEVENT
UID:0e630d36-f39e-11f0-bae7-0242ac11002b-1777186800000-de
DTSTAMP:20260117T121422Z
DTSTART:20260426T070000Z
DTEND:20260426T080000Z
SUMMARY;LANGUAGE=de:Hl. Messe
END:VEVENT
END:VCALENDAR
