BEGIN:VCALENDAR
VERSION:2.0
PRODID:http://bistummainz.de
BEGIN:VEVENT
UID:0e83e00b-f2d3-11f0-bae7-0242ac11002b-1777134600000-de
DTSTAMP:20260116T120114Z
DTSTART:20260425T163000Z
DTEND:20260425T173000Z
SUMMARY;LANGUAGE=de:Vorabendmesse (ENTFÄLLT)
END:VEVENT
END:VCALENDAR
