BEGIN:VCALENDAR
VERSION:2.0
PRODID:http://bistummainz.de
BEGIN:VEVENT
UID:0f21cdc1-f2d3-11f0-bae7-0242ac11002b-1777127400000-de
DTSTAMP:20260116T120115Z
DTSTART:20260425T143000Z
DTEND:20260425T173000Z
SUMMARY;LANGUAGE=de:Vesper (ukrainisch-orthodoxe Kirche)
END:VEVENT
END:VCALENDAR
