BEGIN:VCALENDAR
VERSION:2.0
PRODID:http://bistummainz.de
BEGIN:VEVENT
UID:0fe159c3-f52f-11f0-bae7-0242ac11002b-1777356000000-de
DTSTAMP:20260119T120452Z
DTSTART:20260428T060000Z
DTEND:20260428T070000Z
SUMMARY;LANGUAGE=de:Gottesdienst - Pfr. Givens
END:VEVENT
END:VCALENDAR
