BEGIN:VCALENDAR
VERSION:2.0
PRODID:http://bistummainz.de
BEGIN:VEVENT
UID:102de6cc-01c3-11f1-bae7-0242ac11002b-1778745600000-de
DTSTAMP:20260204T121432Z
DTSTART:20260514T080000Z
DTEND:20260514T090000Z
SUMMARY;LANGUAGE=de:Eucharistiefeier
END:VEVENT
END:VCALENDAR
