BEGIN:VCALENDAR
VERSION:2.0
PRODID:http://bistummainz.de
BEGIN:VEVENT
UID:1048bd39-f39e-11f0-bae7-0242ac11002b-1777192200000-de
DTSTAMP:20260117T121425Z
DTSTART:20260426T083000Z
DTEND:20260426T093000Z
SUMMARY;LANGUAGE=de:Hl. Messe
DESCRIPTION;LANGUAGE=de:Wir beten für: Karolina Möglich; Peter u. Luise Jakob\, Walter u. Maria Steinmetz u. verst. Ang. u. Andreas Weisbrod
END:VEVENT
END:VCALENDAR
