BEGIN:VCALENDAR
VERSION:2.0
PRODID:http://bistummainz.de
BEGIN:VEVENT
UID:10b2f62a-05b1-11f1-bae7-0242ac11002b-1779208200000-de
DTSTAMP:20260209T121547Z
DTSTART:20260519T163000Z
DTEND:20260519T173000Z
SUMMARY;LANGUAGE=de:Eucharistiefeier
END:VEVENT
END:VCALENDAR
