BEGIN:VCALENDAR
VERSION:2.0
PRODID:http://bistummainz.de
BEGIN:VEVENT
UID:129aae7e-3820-11ee-9f08-0242ac11002b-1694179800000-de
DTSTAMP:20230811T082129Z
DTSTART:20230908T133000Z
DTEND:20230908T143000Z
SUMMARY;LANGUAGE=de:Gebet der Wallfahrer aus Kirchzell anlässlich der Dieburger Großen Wallfahrt
END:VEVENT
END:VCALENDAR
