BEGIN:VCALENDAR
VERSION:2.0
PRODID:http://bistummainz.de
BEGIN:VEVENT
UID:12df3b75-f39d-11f0-bae7-0242ac11002b-1777222800000-de
DTSTAMP:20260117T120720Z
DTSTART:20260426T170000Z
DTEND:20260426T183000Z
SUMMARY;LANGUAGE=de:Eucharistische Adoratio, von Taize-Liedern begleitet
END:VEVENT
END:VCALENDAR
