BEGIN:VCALENDAR
VERSION:2.0
PRODID:http://bistummainz.de
BEGIN:VEVENT
UID:133d445d-2ab7-11f1-a93c-0242ac11002b-1776758400000-de
DTSTAMP:20260328T150201Z
DTSTART:20260421T080000Z
DTEND:20260421T090000Z
SUMMARY;LANGUAGE=de:Ökumenischer Gottesdienst
END:VEVENT
END:VCALENDAR
