BEGIN:VCALENDAR
VERSION:2.0
PRODID:http://bistummainz.de
BEGIN:VEVENT
UID:15db98f3-efb4-11f0-bae7-0242ac11002b-1776788100000-de
DTSTAMP:20260112T124158Z
DTSTART:20260421T161500Z
DTEND:20260421T171500Z
SUMMARY;LANGUAGE=de:Eucharistiefeier
END:VEVENT
END:VCALENDAR
