BEGIN:VCALENDAR
VERSION:2.0
PRODID:http://bistummainz.de
BEGIN:VEVENT
UID:17174490-01c2-11f1-bae7-0242ac11002b-1778400000000-de
DTSTAMP:20260204T120734Z
DTSTART:20260510T080000Z
DTEND:20260510T090000Z
SUMMARY;LANGUAGE=de:Ökumenischer Gottesdienst zum Apfelblütenfest
END:VEVENT
END:VCALENDAR
