BEGIN:VCALENDAR
VERSION:2.0
PRODID:http://bistummainz.de
BEGIN:VEVENT
UID:188f12f2-f39d-11f0-bae7-0242ac11002b-1777192200000-de
DTSTAMP:20260117T120729Z
DTSTART:20260426T083000Z
DTEND:20260426T093000Z
SUMMARY;LANGUAGE=de:Eucharistiefeier mit Verabschiedung von Anton Dannoritzer anschl. "Buch und Kaffee"
END:VEVENT
END:VCALENDAR
