BEGIN:VCALENDAR
VERSION:2.0
PRODID:http://bistummainz.de
BEGIN:VEVENT
UID:1c605ce0-fd0b-11f0-bae7-0242ac11002b-1778253300000-de
DTSTAMP:20260129T120741Z
DTSTART:20260508T151500Z
DTEND:20260508T154500Z
SUMMARY;LANGUAGE=de:Anbetung des Allerheiligsten in den Anliegen unserer Zeit
END:VEVENT
END:VCALENDAR
