BEGIN:VCALENDAR
VERSION:2.0
PRODID:http://bistummainz.de
BEGIN:VEVENT
UID:1d87ed67-067a-11f1-bae7-0242ac11002b-1779260400000-de
DTSTAMP:20260210T121457Z
DTSTART:20260520T070000Z
DTEND:20260520T080000Z
SUMMARY;LANGUAGE=de:Wort-Gottes-Feier
END:VEVENT
END:VCALENDAR
