BEGIN:VCALENDAR
VERSION:2.0
PRODID:http://bistummainz.de
BEGIN:VEVENT
UID:1e5fa379-080c-11f1-bae7-0242ac11002b-1777194000000-de
DTSTAMP:20260212T121236Z
DTSTART:20260426T090000Z
DTEND:20260426T100000Z
SUMMARY;LANGUAGE=de:Kinderkirche - entfällt!
END:VEVENT
END:VCALENDAR
