BEGIN:VCALENDAR
VERSION:2.0
PRODID:http://bistummainz.de
BEGIN:VEVENT
UID:1ec01f58-067a-11f1-bae7-0242ac11002b-1779292800000-de
DTSTAMP:20260210T121459Z
DTSTART:20260520T160000Z
DTEND:20260520T170000Z
SUMMARY;LANGUAGE=de:Maiandacht
END:VEVENT
END:VCALENDAR
