BEGIN:VCALENDAR
VERSION:2.0
PRODID:http://bistummainz.de
BEGIN:VEVENT
UID:1ecb417a-fd0b-11f0-bae7-0242ac11002b-1778256000000-de
DTSTAMP:20260129T120745Z
DTSTART:20260508T160000Z
DTEND:20260508T170000Z
SUMMARY;LANGUAGE=de:Hl. Messe anschließend Anbetung
END:VEVENT
END:VCALENDAR
