BEGIN:VCALENDAR
VERSION:2.0
PRODID:http://bistummainz.de
BEGIN:VEVENT
UID:206f5fa9-fd0c-11f0-bae7-0242ac11002b-1778248800000-de
DTSTAMP:20260129T121457Z
DTSTART:20260508T140000Z
DTEND:20260508T150000Z
SUMMARY;LANGUAGE=de:Eucharistische Anbetung
END:VEVENT
END:VCALENDAR
