BEGIN:VCALENDAR
VERSION:2.0
PRODID:http://bistummainz.de
BEGIN:VEVENT
UID:22f6a627-f39d-11f0-bae7-0242ac11002b-1777190400000-de
DTSTAMP:20260117T120747Z
DTSTART:20260426T080000Z
DTEND:20260426T090000Z
SUMMARY;LANGUAGE=de:Feier der Erstkommunion
END:VEVENT
END:VCALENDAR
