BEGIN:VCALENDAR
VERSION:2.0
PRODID:http://bistummainz.de
BEGIN:VEVENT
UID:23d7d234-fab0-11f0-bae7-0242ac11002b-1777996800000-de
DTSTAMP:20260126T121127Z
DTSTART:20260505T160000Z
DTEND:20260505T170000Z
SUMMARY;LANGUAGE=de:Heilige Messe
END:VEVENT
END:VCALENDAR
