BEGIN:VCALENDAR
VERSION:2.0
PRODID:http://bistummainz.de
BEGIN:VEVENT
UID:25e48b47-0cfd-11f1-bae7-0242ac11002b-1777206600000-de
DTSTAMP:20260218T190802Z
DTSTART:20260426T123000Z
DTEND:20260426T133000Z
SUMMARY;LANGUAGE=de:Feier der Taufe
END:VEVENT
END:VCALENDAR
