BEGIN:VCALENDAR
VERSION:2.0
PRODID:http://bistummainz.de
BEGIN:VEVENT
UID:280b8bf7-f78d-11f0-bae7-0242ac11002b-1777651200000-de
DTSTAMP:20260122T122328Z
DTSTART:20260501T160000Z
DTEND:20260501T163000Z
SUMMARY;LANGUAGE=de:Rosenkranz
END:VEVENT
END:VCALENDAR
