BEGIN:VCALENDAR
VERSION:2.0
PRODID:http://bistummainz.de
BEGIN:VEVENT
UID:2b7e23e3-028c-11f1-bae7-0242ac11002b-1778832000000-de
DTSTAMP:20260205T121407Z
DTSTART:20260515T080000Z
DTEND:20260515T090000Z
SUMMARY;LANGUAGE=de:Eucharistiefeier
END:VEVENT
END:VCALENDAR
