BEGIN:VCALENDAR
VERSION:2.0
PRODID:http://bistummainz.de
BEGIN:VEVENT
UID:2c4b37ec-028c-11f1-bae7-0242ac11002b-1778853600000-de
DTSTAMP:20260205T121408Z
DTSTART:20260515T140000Z
DTEND:20260515T150000Z
SUMMARY;LANGUAGE=de:Eucharistische Anbetung
END:VEVENT
END:VCALENDAR
