BEGIN:VCALENDAR
VERSION:2.0
PRODID:http://bistummainz.de
BEGIN:VEVENT
UID:2cbc384e-f78c-11f0-bae7-0242ac11002b-1777651200000-de
DTSTAMP:20260122T121626Z
DTSTART:20260501T160000Z
DTEND:20260501T170000Z
SUMMARY;LANGUAGE=de:Eucharistiefeier
END:VEVENT
END:VCALENDAR
