BEGIN:VCALENDAR
VERSION:2.0
PRODID:http://bistummainz.de
BEGIN:VEVENT
UID:2eff3d86-1ed6-11f1-8dcf-0242ac11002b-1777820400000-de
DTSTAMP:20260313T121428Z
DTSTART:20260503T150000Z
DTEND:20260503T160000Z
SUMMARY;LANGUAGE=de:Maiandacht
DESCRIPTION;LANGUAGE=de:Musikalische Mitwirkung: Singkreis St. Josef
END:VEVENT
END:VCALENDAR
