BEGIN:VCALENDAR
VERSION:2.0
PRODID:http://bistummainz.de
BEGIN:VEVENT
UID:2f3a04e8-041d-11f1-bae7-0242ac11002b-1779006600000-de
DTSTAMP:20260207T120441Z
DTSTART:20260517T083000Z
DTEND:20260517T093000Z
SUMMARY;LANGUAGE=de:Kindergottesdienst
END:VEVENT
END:VCALENDAR
