BEGIN:VCALENDAR
VERSION:2.0
PRODID:http://bistummainz.de
BEGIN:VEVENT
UID:2f48b22a-fdd5-11f0-bae7-0242ac11002b-1778328000000-de
DTSTAMP:20260130T121411Z
DTSTART:20260509T120000Z
DTEND:20260509T133000Z
SUMMARY;LANGUAGE=de:Eucharistiefeier mit Firmung
DESCRIPTION;LANGUAGE=de:mit dem Chor SPIRIT
END:VEVENT
END:VCALENDAR
