BEGIN:VCALENDAR
VERSION:2.0
PRODID:http://bistummainz.de
BEGIN:VEVENT
UID:305c36e7-f91e-11f0-bae7-0242ac11002b-1777825800000-de
DTSTAMP:20260124T121410Z
DTSTART:20260503T163000Z
DTEND:20260503T173000Z
SUMMARY;LANGUAGE=de:Eucharistiefeier
END:VEVENT
END:VCALENDAR
