BEGIN:VCALENDAR
VERSION:2.0
PRODID:http://bistummainz.de
BEGIN:VEVENT
UID:3098076c-f91e-11f0-bae7-0242ac11002b-1777795200000-de
DTSTAMP:20260124T121410Z
DTSTART:20260503T080000Z
DTEND:20260503T090000Z
SUMMARY;LANGUAGE=de:Wort-Gottes-Feier mit Kommunionfeier
DESCRIPTION;LANGUAGE=de:Im Anschluss Bistro im Haus Sebastian.
END:VEVENT
END:VCALENDAR
