BEGIN:VCALENDAR
VERSION:2.0
PRODID:http://bistummainz.de
BEGIN:VEVENT
UID:30bdb7df-f91e-11f0-bae7-0242ac11002b-1777807800000-de
DTSTAMP:20260124T121411Z
DTSTART:20260503T113000Z
DTEND:20260503T120000Z
SUMMARY;LANGUAGE=de:Rosenkranz
END:VEVENT
END:VCALENDAR
