BEGIN:VCALENDAR
VERSION:2.0
PRODID:http://bistummainz.de
BEGIN:VEVENT
UID:31a3d225-f91e-11f0-bae7-0242ac11002b-1777824000000-de
DTSTAMP:20260124T121412Z
DTSTART:20260503T160000Z
DTEND:20260503T163000Z
SUMMARY;LANGUAGE=de:Rosenkranz
END:VEVENT
END:VCALENDAR
