BEGIN:VCALENDAR
VERSION:2.0
PRODID:http://bistummainz.de
BEGIN:VEVENT
UID:3221329c-f141-11f0-bae7-0242ac11002b-1776963600000-de
DTSTAMP:20260114T120436Z
DTSTART:20260423T170000Z
DTEND:20260423T173000Z
SUMMARY;LANGUAGE=de:Taizégebet
END:VEVENT
END:VCALENDAR
