BEGIN:VCALENDAR
VERSION:2.0
PRODID:http://bistummainz.de
BEGIN:VEVENT
UID:32322f79-f91e-11f0-bae7-0242ac11002b-1777795200000-de
DTSTAMP:20260124T121413Z
DTSTART:20260503T080000Z
DTEND:20260503T090000Z
SUMMARY;LANGUAGE=de:Eucharistiefeier
DESCRIPTION;LANGUAGE=de:anschl. Kirchenkaffee im Gemeindesaal.
END:VEVENT
END:VCALENDAR
