BEGIN:VCALENDAR
VERSION:2.0
PRODID:http://bistummainz.de
BEGIN:VEVENT
UID:329c3bed-f91e-11f0-bae7-0242ac11002b-1777798800000-de
DTSTAMP:20260124T121414Z
DTSTART:20260503T090000Z
DTEND:20260503T100000Z
SUMMARY;LANGUAGE=de:Eucharistiefeier in ungarischer Sprache
END:VEVENT
END:VCALENDAR
